Workbook
Name CASE: '[1]Operating Model'!#REF!
Name CIRC: '[1]Operating Model'!#REF!
Name PIK: [2]LBO!$E$8
Name tgr: DCF!$D$10
Name tgr: WACC!#REF!
Name tgr: #REF!
Name wacc: DCF!$D$9
Name wacc: WACC!#REF!
Name wacc: #REF!

Sheet __FDSCACHE__
B1: This sheet contains FactSet XML data for use with this workbook's =FDS codes. Modifying the worksheet's contents may damage the workbook's =FDS functionality.

Sheet DCF
B2: ROSNEFT
A4: x | B4: Ticker | C4: ROSN.ME | E4: Implied Share Price
B5: Date | C5: 46287 | E5: Today's Share Price | I5: Upside (Downside)
A7: x | B7: Assumptions
B8: Valuation Assumptions
B9: WACC | D9: =WACC!D22 -> 0.14167105 | I9: PROJECTIONS
B10: TGR | D10: 0.03
I11: 1 | J11: 2 | K11: 3 | L11: 4 | M11: 5
A12: x | B12: Income Statement | E12: 2022 | F12: 2023 | G12: 2024 | H12: 2025 | I12: 2026 | J12: 2027 | K12: 2028 | L12: 2029 | M12: 2030
B13: Revenue | E13: =IS!K5 -> 9000 | F13: =IS!L5 -> 8990 | G13: =IS!M5 -> 9972 | H13: =IS!N5 -> 8164 | I13: =(2032*4) -> 8128 | J13: =I13+Vostok_Production!C9 -> 9613.4673 | K13: =I13+Vostok_Production!D9 -> 9732.3977 | L13: =I13+Vostok_Production!E9 -> 9950.2978 | M13: =I13+Vostok_Production!F9 -> 10193.457
B14: % growth | F14: =F13/E13-1 -> -0.0011111111 | G14: =G13/F13-1 -> 0.10923248 | H14: =H13/G13-1 -> -0.18130766 | I14: =I13/H13-1 -> -0.0044096031 | J14: =J13/I13-1 -> 0.18275926 | K14: =K13/J13-1 -> 0.012371238 | L14: =L13/K13-1 -> 0.022389141 | M14: =M13/L13-1 -> 0.024437398
B16: EBIT | E16: =IS!K15-IS!K18 -> 1522 | F16: =IS!L15-IS!L18 -> 2236 | G16: =IS!M15-IS!M18 -> 2180 | H16: =IS!N15-IS!N18 -> 1204 | I16: =IS!O15-DCF!I23 -> 2083.6754 | J16: =(($I$13*22%)+(Vostok_Production!C9*28%))-J13*(J24-$I$24) -> 2110.1811 | K16: =(($I$13*22%)+(Vostok_Production!D9*28%))-K13*(K24-$I$24) -> 2047.2483 | L16: =(($I$13*22%)+(Vostok_Production!E9*28%))-L13*(L24-$I$24) -> 2006.8031 | M16: =(($I$13*22%)+(Vostok_Production!F9*28%))-M13*(M24-$I$24) -> 1968.1864
B17: % of sales | E17: =E16/E13 -> 0.16911111 | F17: =F16/F13 -> 0.2487208 | G17: =G16/G13 -> 0.21861211 | H17: =H16/H13 -> 0.14747673 | I17: =I16/I13 -> 0.25635771 | J17: =J16/J13 -> 0.2195026 | K17: =K16/K13 -> 0.21035395 | L17: =L16/L13 -> 0.20168272 | M17: =M16/M13 -> 0.1930833
B19: Taxes | E19: =IS!F27 -> - | F19: =IS!L27 -> 438 | G19: =IS!M27 -> 552 | H19: =IS!N27 -> 275 | I19: =I16*20% -> 416.73509 | J19: =J16*J20 -> 462.92194 | K19: =K16*K20 -> 461.13848 | L19: =L16*L20 -> 437.99919 | M19: =M16*M20 -> 424.57745
B20: % of EBIT | E20: =E19/E16 -> #VALUE! | F20: =F19/F16 -> 0.19588551 | G20: =G19/G16 -> 0.25321101 | H20: =H19/H16 -> 0.22840532 | I20: =I19/I16 -> 0.2 | J20: =AVERAGE(F20:I20) -> 0.21937546 | K20: =AVERAGE(G20:J20) -> 0.22524795 | L20: =AVERAGE(H20:K20) -> 0.21825718 | M20: =AVERAGE(I20:L20) -> 0.21572015
A22: x | B22: Cash Flow Items | E22: 2022 | F22: 2023 | G22: 2024 | H22: 2025 | I22: 2026 | J22: 2027 | K22: 2028 | L22: 2029 | M22: 2030
B23: D&A | E23: =IS!K18 -> 1029 | F23: =IS!L18 -> 769 | G23: =IS!M18 -> 849 | H23: =IS!N18 -> 969 | I23: =I13*I24 -> 820.32455 | J23: =J13*J24 -> 1064.1562 | K23: =K13*K24 -> 1172.3926 | L23: =L13*L24 -> 1295.8416 | M23: =M13*M24 -> 1427.084
B24: % of sales | E24: =E23/E13 -> 0.11433333 | F24: =F23/F13 -> 0.085539488 | G24: =G23/G13 -> 0.085138387 | H24: =H23/H13 -> 0.11869182 | I24: =AVERAGE(E24:H24) -> 0.10092576 | J24: =I24 + (14% - I24) / 4 -> 0.11069432 | K24: =J24 + (14% - $I$24) / 4 -> 0.12046288 | L24: =K24 + (14% - $I$24) / 4 -> 0.13023144 | M24: =L24 + (14% - $I$24) / 4 -> 0.14
B26: CapEx | E26: =IS!K11 -> 1132 | F26: =IS!L11 -> 1297 | G26: =IS!M11 -> 1442 | H26: =IS!N11 -> 1538 | I26: =IS!O11 -> 1716 | J26: =J13*J27 -> 1882.7162 | K26: =K13*K27 -> 1757.2917 | L26: =L13*L27 -> 1644.5903 | M26: =M13*M27 -> 1529.0186
B27: % of sales | E27: =E26/E13 -> 0.12577778 | F27: =F26/F13 -> 0.14427141 | G27: =G26/G13 -> 0.14460489 | H27: =H26/H13 -> 0.18838805 | I27: =I26/I13 -> 0.21112205 | J27: =I27 - ( $I$27 - 15% ) / 4 -> 0.19584154 | K27: =J27 - ( $I$27 - 15% ) / 4 -> 0.18056102 | L27: =K27 - ( $I$27 - 15% ) / 4 -> 0.16528051 | M27: =L27 - ( $I$27 - 15% ) / 4 -> 0.15
B28: NWC (operating balance) | H28: 567 | I28: =I13*$H$28/$H$13 -> 564.49976 | J28: =J13*$H$28/$H$13 -> 667.66731 | K28: =K13*$H$28/$H$13 -> 675.92718 | L28: =L13*$H$28/$H$13 -> 691.06061 | M28: =M13*$H$28/$H$13 -> 707.94834 | P28: Operating NWC = trade receivables + inventories - trade payables (excludes cash and short-term debt). 2025 base = 567 (RUB bn, source data) held constant as % of sales; Change in NWC = NWC(t) - NWC(t-1); positive = cash outflow. Column N = terminal year (NWC grows at TGR). Historical F:H still on the old current assets - current liabilities basis (not comparable).
B29: Change in NWC | F29: =(BS!D9-BS!D12)-(BS!C9-BS!C12) -> -708 | G29: =(BS!E9-BS!E12)-(BS!D9-BS!D12) -> -1901 | H29: =(BS!F9-BS!F12)-(BS!E9-BS!E12) -> -323 | I29: =I28-H28 -> -2.500245 | J29: =J28-I28 -> 103.16756 | K29: =K28-J28 -> 8.2598709 | L29: =L28-K28 -> 15.133429 | M29: =M28-L28 -> 16.887723
B30: % of sales | E30: =E29/E13 -> 0 | F30: =F29/F13 -> -0.078754171 | G30: =G29/G13 -> -0.19063377 | H30: =H29/H13 -> -0.039563939 | I30: =I29/I13 -> -0.00030760888 | J30: =J29/J13 -> 0.010731566 | K30: =K29/K13 -> 0.00084869845 | L30: =L29/L13 -> 0.0015209021 | M30: =M29/M13 -> 0.0016567219
I31: 1 | J31: 2 | K31: 3 | L31: 4 | M31: 5
A32: x | B32: DCF | E32: =E22 -> 2022 | F32: =F22 -> 2023 | G32: =G22 -> 2024 | H32: =H22 -> 2025 | I32: =I22 -> 2026 | J32: =J22 -> 2027 | K32: =K22 -> 2028 | L32: =L22 -> 2029 | ... N32: =N22 -> 0
B33: Revenue | E33: =E13 -> 9000 | F33: =F13 -> 8990 | G33: =G13 -> 9972 | H33: =H13 -> 8164 | I33: =I13 -> 8128 | J33: =J13 -> 9613.4673 | K33: =K13 -> 9732.3977 | L33: =L13 -> 9950.2978 | M33: =M13 -> 10193.457
B34: % growth | F34: =F33/E33-1 -> -0.0011111111 | G34: =G33/F33-1 -> 0.10923248 | H34: =H33/G33-1 -> -0.18130766 | I34: =I33/H33-1 -> -0.0044096031 | J34: =J14 -> 0.18275926 | K34: =K14 -> 0.012371238 | L34: =L14 -> 0.022389141 | M34: =M14 -> 0.024437398
B36: EBIT | E36: =E16 -> 1522 | F36: =F16 -> 2236 | G36: =G16 -> 2180 | H36: =H16 -> 1204 | I36: =I16 -> 2083.6754 | J36: =J16 -> 2110.1811 | K36: =K16 -> 2047.2483 | L36: =L16 -> 2006.8031 | M36: =M16 -> 1968.1864
B37: % margin | E37: =E36/E33 -> 0.16911111 | F37: =F36/F33 -> 0.2487208 | G37: =G36/G33 -> 0.21861211 | H37: =H36/H33 -> 0.14747673 | I37: =I36/I33 -> 0.25635771 | J37: =J17 -> 0.2195026 | K37: =K17 -> 0.21035395 | L37: =L17 -> 0.20168272 | M37: =M17 -> 0.1930833 | P37: THE %MARGIN is the difference of the Revenue and the final EBIT
B39: Taxes | E39: =E36*E40 -> 304.4 | F39: =IS!L27 -> 438 | G39: =IS!M27 -> 552 | H39: =IS!N27 -> 275 | I39: =I36*I40 -> 457.10726 | J39: =J19 -> 462.92194 | K39: =K19 -> 461.13848 | L39: =L19 -> 437.99919 | M39: =M19 -> 424.57745
B40: % of EBIT | E40: 0.2 | F40: =F39/F36 -> 0.19588551 | G40: =G39/G36 -> 0.25321101 | H40: =H39/H36 -> 0.22840532 | I40: =AVERAGE(E40:H40) -> 0.21937546 | J40: =J20 -> 0.21937546 | K40: =K20 -> 0.22524795 | L40: =L20 -> 0.21825718 | M40: =M20 -> 0.21572015
B42: EBIAT | E42: =E39-E36 -> -1217.6 | F42: =F36-F39 -> 1798 | G42: =G36-G39 -> 1628 | H42: =H36-H39 -> 929 | I42: =I36-I39 -> 1626.5682 | J42: =J36-J39 -> 1647.2591 | K42: =K36-K39 -> 1586.1098 | L42: =L36-L39 -> 1568.8039 | M42: =M36-M39 -> 1543.6089
B44: D&A | E44: =E23 -> 1029 | F44: =F23 -> 769 | G44: =G23 -> 849 | H44: =H23 -> 969 | I44: =I23 -> 820.32455 | J44: =J23 -> 1064.1562 | K44: =K23 -> 1172.3926 | L44: =L23 -> 1295.8416 | M44: =M23 -> 1427.084
B45: % of sales | E45: =E44/E33 -> 0.11433333 | F45: =F44/F33 -> 0.085539488 | G45: =G44/G33 -> 0.085138387 | H45: =H44/H33 -> 0.11869182 | I45: =I44/I33 -> 0.10092576 | J45: =J24 -> 0.11069432 | K45: =K24 -> 0.12046288 | L45: =L24 -> 0.13023144 | M45: =M24 -> 0.14
B47: CapEx | E47: =E26 -> 1132 | F47: =F26 -> 1297 | G47: =G26 -> 1442 | H47: =H26 -> 1538 | I47: =858*2 -> 1716 | J47: =J26 -> 1882.7162 | K47: =K26 -> 1757.2917 | L47: =L26 -> 1644.5903 | M47: =M26 -> 1529.0186
B48: % of sales | E48: =E47/E33 -> 0.12577778 | F48: =F47/F33 -> 0.14427141 | G48: =G47/G33 -> 0.14460489 | H48: =H47/H33 -> 0.18838805 | I48: =I47/I33 -> 0.21112205 | J48: =J27 -> 0.19584154 | K48: =K27 -> 0.18056102 | L48: =L27 -> 0.16528051 | M48: =M27 -> 0.15
B50: Change in NWC | E50: =E29 -> 0 | F50: =F29 -> -708 | G50: =G29 -> -1901 | H50: =H29 -> -323 | I50: =I29 -> -2.500245 | J50: =J29 -> 103.16756 | K50: =K29 -> 8.2598709 | L50: =L29 -> 15.133429 | M50: =M29 -> 16.887723
B51: % of sales | E51: =E50/E33 -> 0 | F51: =F50/F33 -> -0.078754171 | G51: =G50/G33 -> -0.19063377 | H51: =H50/H33 -> -0.039563939 | I51: =I50/I33 -> -0.00030760888 | J51: =J30 -> 0.010731566 | K51: =K50/K33 -> 0.00084869845 | L51: =L50/L33 -> 0.0015209021 | M51: =M50/M33 -> 0.0016567219
B53: Unlevered FCF | I53: =I42+I44-I47-I50 -> 733.39299 | J53: =J42+J44-J47-J50 -> 725.5316 | K53: =K42+K44-K47-K50 -> 992.95092 | L53: =L42+L44-L47-L50 -> 1204.9218 | M53: =M42+M44-M47-M50 -> 1424.7866
B54: Present Value of FCF | I54: =I53/(1+wacc)^I31 -> 642.38555 | J54: =J53/(1+wacc)^J31 -> 556.63993 | K54: =K53/(1+wacc)^K31 -> 667.27494 | L54: =L53/(1+wacc)^L31 -> 709.24274 | M54: =M53/(1+wacc)^M31 -> 734.58978
...

Sheet WACC
B2: WACC
A4: x | B4: WACC
B5: WACC = (% Equity x Cost of Equity) + (% Debt x Cost of Debt x (1 -Tax rate))
B8: Debt | D8: 4.68 | E8: Trillion
B9: % Debt | D9: =D8/D20 -> 0.34210526
B10: Cost of Debt | D10: 0.05
B11: Tax Rate | D11: 0.21
B13: Equity Value | D13: 9 | E13: Trillion
B14: % Equity | D14: =D13/D20 -> 0.65789474
B15: Cost of Equity | D15: =D16+D17*D18+D19 -> 0.1948
B16: Risk Free Rate | D16: =CAPM!C4 -> 0.16
B17: Beta | D17: =CAPM!C5 -> 0.15
B18: Market Risk Premium | D18: =CAPM!C6 -> 0.04
B19: Country Risk Premium | D19: =CAPM!C7 -> 0.0288
B20: Debt + Equity | D20: =D8+D13 -> 13.68 | E20: Trillion
A22: x | B22: WACC | D22: =(D9*D10*(1-D11))+(D14*D15) -> 0.14167105

Sheet CAPM
B2: CAPM (Capital Asset Pricing Model)- -> | E2: (Re) | I2: Cost of Equity (Re) = Rf (US) + Beta (vs. US Market) × MRP (US) + CRP
B4: Risk free rate | C4: 0.16 | D4: U.S 10y - treasury
B5: Beta | C5: 0.15
B6: Market Risk Premium | C6: 0.04 | D6: E[Rm] - Rf | Expected Market Return - Rsik free rate
B7: Country Risk Premium | C7: 0.0288 | D7: Debt country spread * sigma stock / sigma bond
B9: Discount Rate (Re) | C9: =C4+C5*C6+C7 -> 0.1948

Sheet IS
A1: ROSNEFT-RU
A2: Income Statement (M)
B3: CY '13 | C3: CY '14 | D3: CY '15 | E3: CY '16 | F3: CY '17 | G3: CY '18 | H3: CY '19 | I3: CY '20 | J3: CY '21 | K3: CY '22 | L3: CY '23 | M3: CY '24 | N3: CY '25 | O3: CY '26 | P3: CY '27
B4: Dec '13 | C4: Dec '14 | D4: Dec '15 | E4: Dec '16 | F4: Dec '17 | G4: Dec '18 | H4: Dec '19 | I4: Dec '20 | J4: Dec '21 | K4: Dec '22 | L4: Dec '23 | M4: Dec '24 | N4: Dec '25 | O4: Dec '26 | P4: Dec '27
A5: Sales | B5: - | C5: - | D5: - | E5: - | F5: - | G5: - | H5: - | I5: - | J5: - | K5: 9000 | L5: 8990 | M5: 9972 | N5: 8164 | O5: - | P5: -
A6: Cost of Sales | B6: - | C6: - | D6: - | E6: - | F6: - | G6: - | H6: - | I6: - | J6: - | K6: - | L6: - | M6: - | N6: - | O6: - | P6: -
A7: Organic Growth (%) | B7: - | C7: - | D7: - | E7: - | F7: - | G7: - | H7: - | I7: - | J7: - | K7: - | L7: - | M7: - | N7: - | O7: - | P7: -
A8: NWC | B8: - | C8: - | D8: - | E8: - | F8: - | G8: - | H8: - | I8: - | J8: - | K8: - | L8: - | M8: - | N8: - | O8: - | P8: -
A9: Gross Income | B9: - | C9: - | D9: - | E9: - | F9: - | G9: - | H9: - | I9: - | J9: - | K9: - | L9: - | M9: - | N9: - | O9: - | P9: -
A10: SG&A Expense | B10: - | C10: - | D10: - | E10: - | F10: - | G10: - | H10: - | I10: - | J10: - | K10: - | L10: - | M10: - | N10: - | O10: - | P10: -
A11: CAPEX | B11: - | C11: - | D11: - | E11: - | F11: - | G11: - | H11: - | I11: - | J11: - | K11: 1132 | L11: 1297 | M11: 1442 | N11: 1538 | O11: 1716 | P11: -
A12: General & Admin Expense | B12: - | C12: - | D12: - | E12: - | F12: - | G12: - | H12: - | I12: - | J12: - | K12: - | L12: - | M12: - | N12: - | O12: - | P12: -
A13: Research & Development | B13: - | C13: - | D13: - | E13: - | F13: - | G13: - | H13: - | I13: - | J13: - | K13: - | L13: - | M13: - | N13: - | O13: - | P13: -
A14: EBITDAR | B14: - | C14: - | D14: - | E14: - | F14: - | G14: - | H14: - | I14: - | J14: - | K14: - | L14: - | M14: - | N14: - | O14: - | P14: -
A15: EBITDA | B15: - | C15: - | D15: - | E15: - | F15: - | G15: - | H15: - | I15: - | J15: - | K15: 2551 | L15: 3005 | M15: 3029 | N15: 2173 | O15: =726*4 -> 2904 | P15: -
A16: EBITDA Non-GAAP | B16: - | C16: - | D16: - | E16: - | F16: - | G16: - | H16: - | I16: - | J16: - | K16: - | L16: - | M16: - | N16: - | O16: - | P16: -
A17: EBITDA GAAP | B17: - | C17: - | D17: - | E17: - | F17: - | G17: - | H17: - | I17: - | J17: - | K17: - | L17: - | M17: - | N17: - | O17: - | P17: -
A18: Depr. & Amort. | B18: - | C18: - | D18: - | E18: - | F18: - | G18: - | H18: - | I18: - | J18: - | K18: 1029 | L18: 769 | M18: 849 | N18: 969 | O18: - | P18: -
A19: Operating Income | B19: - | C19: - | D19: - | E19: - | F19: - | G19: - | H19: - | I19: - | J19: - | K19: - | L19: 2189 | M19: 2129 | N19: 1087 | O19: - | P19: -
A20: EBITA | B20: - | C20: - | D20: - | E20: - | F20: - | G20: - | H20: - | I20: - | J20: - | K20: - | M20: - | N20: - | O20: -
A21: Operating Income - Non GAAP | B21: - | C21: - | D21: - | E21: - | F21: - | G21: - | H21: - | I21: - | J21: - | K21: - | L21: 2129 | M21: 2180 | N21: 1087 | O21: - | P21: -
A22: Operating Income - GAAP | B22: - | C22: - | D22: - | E22: - | F22: - | G22: - | H22: - | I22: - | J22: - | K22: - | L22: 2129 | M22: 2180 | N22: - | O22: - | P22: -
A23: Interest Expense | B23: - | C23: - | D23: - | E23: - | F23: - | G23: - | H23: - | I23: - | J23: - | K23: - | L23: - | M23: - | N23: - | O23: - | P23: -
A24: Pretax Income | B24: - | C24: - | D24: - | E24: - | F24: - | G24: - | H24: - | I24: - | J24: - | K24: - | L24: 1957 | M24: 1893 | N24: 819 | O24: - | P24: -
A25: Pretax Income - Non GAAP | B25: - | C25: - | D25: - | E25: - | F25: - | G25: - | H25: - | I25: - | J25: - | K25: - | L25: - | M25: - | N25: - | O25: - | P25: -
A26: Pretax Income - GAAP | B26: - | C26: - | D26: - | E26: - | F26: - | G26: - | H26: - | I26: - | J26: - | K26: - | L26: 1957 | M26: 1893 | N26: 819 | O26: - | P26: -
A27: Tax Expense | B27: - | C27: - | D27: - | E27: - | F27: - | G27: - | H27: - | I27: - | J27: - | K27: - | L27: 438 | M27: 552 | N27: 275 | O27: - | P27: -
A28: Net Income | B28: - | C28: - | D28: - | E28: - | F28: - | G28: - | H28: - | I28: - | J28: - | K28: 813 | L28: 1529 | M28: 1341 | N28: 293 | O28: - | P28: -
A29: Net Income - Non GAAP | B29: - | C29: - | D29: - | E29: - | F29: - | G29: - | H29: - | I29: - | J29: - | K29: - | L29: 1529 | M29: 1341 | N29: - | O29: - | P29: -
A30: Net Income - GAAP | B30: - | C30: - | D30: - | E30: - | F30: - | G30: - | H30: - | I30: - | J30: - | K30: - | L30: 1529 | M30: 1341 | N30: - | O30: - | P30: - | Q30: -
A31: METRICS | B31: - | C31: - | D31: - | E31: - | F31: - | G31: - | H31: - | I31: - | J31: - | K31: - | M31: - | N31: - | O31: - | P31: -
A32: EBITDA Margin | B32: - | C32: - | D32: - | E32: - | F32: - | G32: - | H32: - | I32: - | J32: - | K32: - | L32: =L15/L5 -> 0.33426029 | M32: =M15/M5 -> 0.3037505 | N32: =N15/N5 -> 0.26616854 | O32: - | P32: -
A33: Operating Margin | B33: - | C33: - | D33: - | E33: - | F33: - | G33: - | H33: - | I33: - | J33: - | K33: - | L33: =L21/L5 -> 0.23681869 | M33: =M21/M5 -> 0.21861211 | N33: =N21/N5 -> 0.13314552 | O33: - | P33: -
A34: Net income margin | B34: - | C34: - | D34: - | E34: - | F34: - | G34: - | H34: - | I34: - | J34: - | K34: - | L34: =L28/L5 -> 0.17007786 | M34: =M28/M5 -> 0.13447653 | N34: =N28/N5 -> 0.03588927 | O34: - | P34: -
A35: CAPEX/EBITDA | B35: - | C35: - | D35: - | E35: - | F35: - | G35: - | H35: - | I35: - | J35: - | K35: - | L35: - | M35: - | N35: - | O35: - | P35: -
A36: FCF/EBITDA | B36: - | C36: - | D36: - | E36: - | F36: - | G36: - | H36: - | I36: - | J36: - | K36: - | L36: - | M36: - | N36: - | O36: - | P36: -
A37: Effective Tax Rate | B37: - | C37: - | D37: - | E37: - | F37: - | G37: - | H37: - | I37: - | J37: - | K37: - | L37: =L27/L26 -> 0.22381196 | M37: =M27/M26 -> 0.29160063 | N37: =N27/N26 -> 0.33577534 | O37: - | P37: -
A38: Cash Conversion | B38: - | C38: - | D38: - | E38: - | F38: - | G38: - | H38: - | I38: - | J38: - | K38: - | L38: - | M38: - | N38: - | O38: - | P38: -
A39: D&A Revenue | B39: - | C39: - | D39: - | E39: - | F39: - | G39: - | H39: - | I39: - | J39: - | K39: - | L39: =L18/L5 -> 0.085539488 | M39: =M18/M5 -> 0.085138387 | N39: =N18/N5 -> 0.11869182 | O39: - | P39: -

Sheet BS
A4: Rosneft Oil Company
A5: ROSN Currency: RUB Unit: millions
A6: Balance Sheet Statement
A8: Line Item | B8: 2022 | C8: 2023 | D8: 2024 | E8: 2025 | F8: 2026 H1
A9: Current assets | B9: n/a | C9: 3839 | D9: 4283 | E9: 4199 | F9: 4004
A10: Total non-current assets | B10: n/a | C10: 14948 | D10: 16399 | E10: 17361 | F10: 17652
A11: Total assets | B11: n/a | C11: 18787 | D11: 20682 | E11: 21560 | F11: 21656
A12: Current liabilities | B12: n/a | C12: 4832 | D12: 5984 | E12: 7801 | F12: 7929
A13: Non-current liabilities | B13: n/a | C13: 5541 | D13: 5541 | E13: 4681 | F13: 442
A14: Total equity | B14: n/a | C14: 8414 | D14: 9157 | E14: 9078 | F14: 9285
A15: Total revenues and equity share in profits | B15: 9163 | C15: 9163 | D15: 10139 | E15: 8236 | F15: 4289
A16: Production and operating expenses | B16: 675 | C16: 675 | D16: 895 | E16: 1109 | F16: 419
A17: Depreciation, depletion, amortization and impairment | B17: 769 | C17: 769 | D17: 848 | E17: 969 | F17: 663
A18: Taxes other than income tax | B18: 3156 | C18: 3156 | D18: 3639 | E18: 2771 | F18: 1451
A19: Other costs and expenses | B19: 2381 | C19: 2381 | D19: 2628 | E19: 2300 | F19: 1115
A20: Total costs and expenses | B20: 6981 | C20: 6981 | D20: 8010 | E20: 7149 | F20: 3648
A21: Operating profit | B21: 2182 | C21: 2182 | D21: 2129 | E21: 1087 | F21: 641
A22: Profit before income tax | B22: 1957 | C22: 1957 | D22: 1893 | E22: 819 | F22: 446
A23: Income tax expense | B23: -438 | C23: -428 | D23: -552 | E23: -275 | F23: -164
A24: Profit for the year | B24: 1529 | C24: 1529 | D24: 1341 | E24: 544 | F24: 282
A25: Profit for the year attributable to Rosneft shareholders | B25: 1267 | C25: 1267 | D25: 1084 | E25: 293 | F25: 200
A26: Net cash provided by operating activities | B26: 2765 | C26: 2765 | D26: 2465 | E26: n/a | F26: n/a
A27: Net cash used in investing activities | B27: -1193 | C27: -1537 | D27: -1429 | E27: n/a | F27: n/a
A28: Net cash used in financing activities | B28: -1537 | C28: -1537 | D28: -706 | E28: n/a | F28: n/a
A29: Capital expenditures | B29: -1297 | C29: -1297 | D29: -1442 | E29: n/a | F29: n/a
A30: Net increase in cash and cash equivalents | B30: 35 | C30: 35 | D30: 330 | E30: n/a | F30: n/a

Sheet Vostok_Production
A2: Vostok Oil field
C3: 2027 | D3: 2028 | E3: 2029 | F3: 2030 | G3: 2031
B4: Production Mt | C4: 30 | D4: =C4+($F$4-$C$4)*(D$3-$C$3)/($F$3-$C$3) -> 36.666667 | E4: =C4+($F$4-$C$4)*(E$3-$C$3)/($F$3-$C$3) -> 43.333333 | F4: 50 | G4: 50 | J4: linear interpolation
B5: Tonnes/day | C5: =(C4*1000000)/365 -> 82191.781 | D5: =(D4*1000000)/365 -> 100456.62 | E5: =(E4*1000000)/365 -> 118721.46 | F5: =(F4*1000000)/365 -> 136986.3 | G5: =(G4*1000000)/365 -> 136986.3
B6: bpd | C6: =C5*7.33 -> 602465.75 | D6: =D5*7.33 -> 736347.03 | E6: =E5*7.33 -> 870228.31 | F6: =F5*7.33 -> 1004109.6 | G6: =G5*7.33 -> 1004109.6
B7: oil price | C7: =Oil_assumptions!C8 -> 79.477083 | D7: =Oil_assumptions!D8 -> 70.232917 | E7: =Oil_assumptions!E8 -> 67.499 | F7: =Oil_assumptions!F8 -> 66.305 | G7: =F7 -> 66.305
B8: Revenue ($ bn) | C8: =C6*C7*365/10^9 -> 17.477011 | D8: =D6*D7*365/10^9 -> 18.876267 | E8: =E6*E7*365/10^9 -> 21.439932 | F8: =F6*F7*365/10^9 -> 24.300783 | G8: =G6*G7*365/10^9 -> 24.300783 | J8: #VALUE! | K8: =FX_Data!A2 -> 84.9955
B9: RUB (bn) | C9: =C8*K8 -> 1485.4673 | D9: =D8*K8 -> 1604.3977 | E9: =E8*K8 -> 1822.2978 | F9: =F8*K8 -> 2065.4572 | G9: =G8*K8 -> 2065.4572

Sheet Oil_assumptions
A1: OIL price assumptions 2027-2030
A6: 1. BRENT ($/bbl, annual average) | B6: Unit | C6: 2027 | D6: 2028 | E6: 2029 | F6: 2030
A7: Bear - banks / RU MinEcon | B7: $/bbl | C7: 70 | D7: 62 | E7: 60 | F7: 60
A8: Base - blend futures + anchor | B8: $/bbl | C8: =C16*C12+(1-C16)*C13 -> 79.477083 | D8: =D16*D12+(1-D16)*D13 -> 70.232917 | E8: =E16*E12+(1-E16)*E13 -> 67.499 | F8: =F16*F12+(1-F16)*F13 -> 66.305
A9: Bull - market-implied (futures strip) | B9: $/bbl | C9: =C12 -> 85.214167 | D9: =D12 -> 75.465833 | E9: =E12 -> 72.14 | F9: =F12 -> 70.22
A11: Base build:
A12: Futures strip, annual avg | B12: $/bbl | C12: =[3]Brent_Futures!F5 -> 85.214167 | D12: =[3]Brent_Futures!F6 -> 75.465833 | E12: =[3]Brent_Futures!F7 -> 72.14 | F12: =[3]Brent_Futures!F8 -> 70.22
A13: Anchor (2027 = EIA STEO Sep-26; 2028+ = long-run) | B13: $/bbl | C13: =C15 -> 73.74 | D13: =$C$14 -> 65 | E13: =$C$14 -> 65 | F13: =$C$14 -> 65
A14: Long-run Brent (mid-cycle) | B14: $/bbl | C14: 65
A15: EIA STEO Brent 2027 | B15: $/bbl | C15: 73.74
A16: Weight on futures | B16: % | C16: 0.5 | D16: 0.5 | E16: 0.35 | F16: 0.25
A18: 2. URALS DISCOUNT TO BRENT ($/bbl) | B18: Unit | C18: 2027 | D18: 2028 | E18: 2029 | F18: 2030
A19: Bear (sanctions bite) | B19: $/bbl | C19: 14 | D19: 15 | E19: 15 | F19: 15
A20: Base (gradual normalisation) | B20: $/bbl | C20: 8 | D20: 10 | E20: 11 | F20: 12
A21: Bull (tight tanker market persists) | B21: $/bbl | C21: 5 | D21: 6 | E21: 7 | F21: 8
A23: 3. USD/RUB (annual average) | B23: Unit | C23: 2027 | D23: 2028 | E23: 2029 | F23: 2030
A24: RU MinEcon (May-26 forecast) | B24: RUB/USD | C24: 87.4 | D24: 92 | E24: 96 | F24: 100
A26: 4. SELECTED SCENARIO -> feeds the DCF | B26: Unit | C26: 2027 | D26: 2028 | E26: 2029 | F26: 2030
A27: Brent | B27: $/bbl | C27: =CHOOSE($B$5,C7,C8,C9) -> #VALUE! | D27: =CHOOSE($B$5,D7,D8,D9) -> #VALUE! | E27: =CHOOSE($B$5,E7,E8,E9) -> #VALUE! | F27: =CHOOSE($B$5,F7,F8,F9) -> #VALUE!
A28: Urals discount | B28: $/bbl | C28: =CHOOSE($B$5,C19,C20,C21) -> #VALUE! | D28: =CHOOSE($B$5,D19,D20,D21) -> #VALUE! | E28: =CHOOSE($B$5,E19,E20,E21) -> #VALUE! | F28: =CHOOSE($B$5,F19,F20,F21) -> #VALUE!
A29: Urals | B29: $/bbl | C29: =C27-C28 -> #VALUE! | D29: =D27-D28 -> #VALUE! | E29: =E27-E28 -> #VALUE! | F29: =F27-F28 -> #VALUE!
A30: USD/RUB | B30: RUB/USD | C30: =C24 -> 87.4 | D30: =D24 -> 92 | E30: =E24 -> 96 | F30: =F24 -> 100
A31: Urals in rubles | B31: RUB/bbl | C31: =C29*C30 -> #VALUE! | D31: =D29*D30 -> #VALUE! | E31: =E29*E30 -> #VALUE! | F31: =F29*F30 -> #VALUE!
A32: % change y/y (RUB) | B32: % | D32: =D31/C31-1 -> #VALUE! | E32: =E31/D31-1 -> #VALUE! | F32: =F31/E31-1 -> #VALUE!

Sheet FX_Data
A1: #VALUE!
A2: {=_FV(A1,"Price")} -> 84.9955
